BEGIN:VCALENDAR
VERSION:2.0
PRODID:-//Faith Table - ECPv6.15.20//NONSGML v1.0//EN
CALSCALE:GREGORIAN
METHOD:PUBLISH
X-ORIGINAL-URL:https://faithtable.org
X-WR-CALDESC:Events for Faith Table
REFRESH-INTERVAL;VALUE=DURATION:PT1H
X-Robots-Tag:noindex
X-PUBLISHED-TTL:PT1H
BEGIN:VTIMEZONE
TZID:America/Chicago
BEGIN:DAYLIGHT
TZOFFSETFROM:-0600
TZOFFSETTO:-0500
TZNAME:CDT
DTSTART:20230312T080000
END:DAYLIGHT
BEGIN:STANDARD
TZOFFSETFROM:-0500
TZOFFSETTO:-0600
TZNAME:CST
DTSTART:20231105T070000
END:STANDARD
BEGIN:DAYLIGHT
TZOFFSETFROM:-0600
TZOFFSETTO:-0500
TZNAME:CDT
DTSTART:20240310T080000
END:DAYLIGHT
BEGIN:STANDARD
TZOFFSETFROM:-0500
TZOFFSETTO:-0600
TZNAME:CST
DTSTART:20241103T070000
END:STANDARD
BEGIN:DAYLIGHT
TZOFFSETFROM:-0600
TZOFFSETTO:-0500
TZNAME:CDT
DTSTART:20250309T080000
END:DAYLIGHT
BEGIN:STANDARD
TZOFFSETFROM:-0500
TZOFFSETTO:-0600
TZNAME:CST
DTSTART:20251102T070000
END:STANDARD
BEGIN:DAYLIGHT
TZOFFSETFROM:-0600
TZOFFSETTO:-0500
TZNAME:CDT
DTSTART:20260308T080000
END:DAYLIGHT
BEGIN:STANDARD
TZOFFSETFROM:-0500
TZOFFSETTO:-0600
TZNAME:CST
DTSTART:20261101T070000
END:STANDARD
END:VTIMEZONE
BEGIN:VEVENT
DTSTART;TZID=America/Chicago:20250815T110000
DTEND;TZID=America/Chicago:20250815T220000
DTSTAMP:20260421T171231
CREATED:20250604T202657Z
LAST-MODIFIED:20250808T153053Z
UID:5852-1755255600-1755295200@faithtable.org
SUMMARY:35TH ANNUAL MISA DEL PUEBLO - BACK TO SCHOOL FAIR\, MASS\, AND CELEBRATION
DESCRIPTION:Back to School Fair 12pm to 6pm \nKids art \nGames \nFood \nFun \npinatas!!! \nMass at 6:00 pm \nSpecial guest: Bishop Jose Maria Garcia-Maldonado
URL:https://faithtable.org/event/35th-annual-misa-del-pueblo-back-to-school-fair-mass-and-celebration/
CATEGORIES:BACK TO SCHOOL EVENT,Church Festival,Community Peace Events,Summer Street Masses,support service event,Unity Event
ATTACH;FMTTYPE=image/png:https://faithtable.org/wp-content/uploads/2025/06/draft-2.0-ZOCALO-NUESTRA-MISA-AUG-15-2025-e1754667031590.png
ORGANIZER;CN="Fr Brendan Curran%2C O.P.":MAILTO:bcurran@resurrectionproject.org
END:VEVENT
BEGIN:VEVENT
DTSTART;VALUE=DATE:20240802
DTEND;VALUE=DATE:20240805
DTSTAMP:20260421T171231
CREATED:20240716T164940Z
LAST-MODIFIED:20240716T164940Z
UID:5601-1722556800-1722815999@faithtable.org
SUMMARY:Mother of the Americas Kermes
DESCRIPTION:
URL:https://faithtable.org/event/mother-of-the-americas-kermes/
LOCATION:MOTHER OF THE AMERICAS\, 2226 SOUTH WHIPPLE\, CHICAGO\, IL\, 60623\, United States
CATEGORIES:Church Festival,Kermes
ATTACH;FMTTYPE=image/jpeg:https://faithtable.org/wp-content/uploads/2024/07/mother-fo-americas-kermes-aug-2-to-4-2024.jpg
END:VEVENT
BEGIN:VEVENT
DTSTART;VALUE=DATE:20240720
DTEND;VALUE=DATE:20240722
DTSTAMP:20260421T171231
CREATED:20240715T215343Z
LAST-MODIFIED:20240715T215343Z
UID:5587-1721433600-1721606399@faithtable.org
SUMMARY:St Pius V Kermes Parish Festival
DESCRIPTION:
URL:https://faithtable.org/event/st-pius-v-kermes-parish-festival-2/
LOCATION:St Pius V Catholic Church\, 1919 S. Ashland Avenue\, Chicago\, IL\, 60608\, United States
CATEGORIES:Church Festival,Community Peace Events,Kermes
ATTACH;FMTTYPE=image/jpeg:https://faithtable.org/wp-content/uploads/2024/07/st-pius-v-kermes-2024-raffle.jpg
ORGANIZER;CN="Fr. Tom Lynch":MAILTO:tacol48@hotmail.com
END:VEVENT
END:VCALENDAR