BEGIN:VCALENDAR
VERSION:2.0
PRODID:-//Faith Table - ECPv6.15.20//NONSGML v1.0//EN
CALSCALE:GREGORIAN
METHOD:PUBLISH
X-WR-CALNAME:Faith Table
X-ORIGINAL-URL:https://faithtable.org
X-WR-CALDESC:Events for Faith Table
REFRESH-INTERVAL;VALUE=DURATION:PT1H
X-Robots-Tag:noindex
X-PUBLISHED-TTL:PT1H
BEGIN:VTIMEZONE
TZID:America/Chicago
BEGIN:DAYLIGHT
TZOFFSETFROM:-0600
TZOFFSETTO:-0500
TZNAME:CDT
DTSTART:20220313T080000
END:DAYLIGHT
BEGIN:STANDARD
TZOFFSETFROM:-0500
TZOFFSETTO:-0600
TZNAME:CST
DTSTART:20221106T070000
END:STANDARD
BEGIN:DAYLIGHT
TZOFFSETFROM:-0600
TZOFFSETTO:-0500
TZNAME:CDT
DTSTART:20230312T080000
END:DAYLIGHT
BEGIN:STANDARD
TZOFFSETFROM:-0500
TZOFFSETTO:-0600
TZNAME:CST
DTSTART:20231105T070000
END:STANDARD
BEGIN:DAYLIGHT
TZOFFSETFROM:-0600
TZOFFSETTO:-0500
TZNAME:CDT
DTSTART:20240310T080000
END:DAYLIGHT
BEGIN:STANDARD
TZOFFSETFROM:-0500
TZOFFSETTO:-0600
TZNAME:CST
DTSTART:20241103T070000
END:STANDARD
END:VTIMEZONE
BEGIN:VEVENT
DTSTART;TZID=America/Chicago:20231005T180000
DTEND;TZID=America/Chicago:20231005T200000
DTSTAMP:20260421T150855
CREATED:20230918T174459Z
LAST-MODIFIED:20230918T174622Z
UID:5218-1696528800-1696536000@faithtable.org
SUMMARY:Community Conversation - Strategic Plan on Community Policing
DESCRIPTION:Community Conversation on Community Policing Strategic Plan \n12th District Conversation Night \nWhitney Young High School \n211 S. Laflin Street \n6:00 pm
URL:https://faithtable.org/event/community-conversation-strategic-plan-on-community-policing/
LOCATION:Whitney Young High School\, 211 S Laflin Street\, Chicago\, IL\, 60607\, United States
CATEGORIES:Community Meeting,Community Peace Events
ATTACH;FMTTYPE=image/png:https://faithtable.org/wp-content/uploads/2023/09/12th-dist-police-station-for-immigrant-discussion-nights-eng-fall-2023.png
END:VEVENT
END:VCALENDAR