BEGIN:VCALENDAR
VERSION:2.0
PRODID:-//Faith Table - ECPv6.15.20//NONSGML v1.0//EN
CALSCALE:GREGORIAN
METHOD:PUBLISH
X-WR-CALNAME:Faith Table
X-ORIGINAL-URL:https://faithtable.org
X-WR-CALDESC:Events for Faith Table
REFRESH-INTERVAL;VALUE=DURATION:PT1H
X-Robots-Tag:noindex
X-PUBLISHED-TTL:PT1H
BEGIN:VTIMEZONE
TZID:America/Chicago
BEGIN:DAYLIGHT
TZOFFSETFROM:-0600
TZOFFSETTO:-0500
TZNAME:CDT
DTSTART:20220313T080000
END:DAYLIGHT
BEGIN:STANDARD
TZOFFSETFROM:-0500
TZOFFSETTO:-0600
TZNAME:CST
DTSTART:20221106T070000
END:STANDARD
BEGIN:DAYLIGHT
TZOFFSETFROM:-0600
TZOFFSETTO:-0500
TZNAME:CDT
DTSTART:20230312T080000
END:DAYLIGHT
BEGIN:STANDARD
TZOFFSETFROM:-0500
TZOFFSETTO:-0600
TZNAME:CST
DTSTART:20231105T070000
END:STANDARD
BEGIN:DAYLIGHT
TZOFFSETFROM:-0600
TZOFFSETTO:-0500
TZNAME:CDT
DTSTART:20240310T080000
END:DAYLIGHT
BEGIN:STANDARD
TZOFFSETFROM:-0500
TZOFFSETTO:-0600
TZNAME:CST
DTSTART:20241103T070000
END:STANDARD
END:VTIMEZONE
BEGIN:VEVENT
DTSTART;TZID=America/Chicago:20230902T120000
DTEND;TZID=America/Chicago:20230902T210000
DTSTAMP:20260423T060101
CREATED:20230815T200946Z
LAST-MODIFIED:20230901T171648Z
UID:5172-1693656000-1693688400@faithtable.org
SUMMARY:THE GIVEBACK
DESCRIPTION:END OF SUMMER CONCERT \n\n\nGet ready to wrap up the summer with a bang at “The GiveBack” – a mind-blowing Christian Hip Hop Concert in Chicago\, where faith and music come together to create an experience and a place of creativity… \n\nThe event will also provide community information for partners… \ncome early and be informed and stay and enjoy the music and fun…
URL:https://faithtable.org/event/the-giveback/
LOCATION:Victory Outreach Berwyn\, 3148 Clinton Avenue\, Berwyn\, IL\, 60402\, United States
CATEGORIES:Community Peace Events,Concert
ATTACH;FMTTYPE=image/jpeg:https://faithtable.org/wp-content/uploads/2023/08/the-giveback-sept-2-2023-final.jpg
ORGANIZER;CN="Chicago Hope Culture%2C Inc":MAILTO:laloa@hopecultureinc.org
END:VEVENT
BEGIN:VEVENT
DTSTART;TZID=America/Chicago:20230914T080000
DTEND;TZID=America/Chicago:20230914T170000
DTSTAMP:20260423T060101
CREATED:20230914T183601Z
LAST-MODIFIED:20230914T183601Z
UID:5197-1694678400-1694710800@faithtable.org
SUMMARY:Rally to Protect Health Care for Immigrants
DESCRIPTION:
URL:https://faithtable.org/event/rally-to-protect-health-care-for-immigrants/
LOCATION:Federal Plaza\, 230 S Dearborn Street\, Chicago\, IL\, 60604
CATEGORIES:Community Peace Events,health care,immigrant rights
ATTACH;FMTTYPE=image/jpeg:https://faithtable.org/wp-content/uploads/2023/09/health-care-for-all-rally-sept-22-federal-plaza-english.jpg
END:VEVENT
BEGIN:VEVENT
DTSTART;TZID=America/Chicago:20230924T110000
DTEND;TZID=America/Chicago:20230924T120000
DTSTAMP:20260423T060101
CREATED:20230620T165937Z
LAST-MODIFIED:20230623T175205Z
UID:5052-1695553200-1695556800@faithtable.org
SUMMARY:St Paul Church Outdoor Mass
DESCRIPTION:The St Paul Catholic Community invites you to join in an outdoor mass in front of our church. \n11:00 am \nCome join us!
URL:https://faithtable.org/event/st-paul-church-outdoor-mass-4/
LOCATION:St Paul Church\, 2127 West 22nd Place\, Chicago\, IL\, 60608\, United States
CATEGORIES:Community Peace Events,Summer Street Masses
ATTACH;FMTTYPE=image/jpeg:https://faithtable.org/wp-content/uploads/2023/06/st-paul-church.jpg
END:VEVENT
BEGIN:VEVENT
DTSTART;TZID=America/Chicago:20230927T180000
DTEND;TZID=America/Chicago:20230927T200000
DTSTAMP:20260423T060101
CREATED:20230918T181535Z
LAST-MODIFIED:20230918T181535Z
UID:5229-1695837600-1695844800@faithtable.org
SUMMARY:Community Conversation - Strategic Plan on Community Policing
DESCRIPTION:Community Conversation on Community Policing Strategic Plan \n19th District Conversation Night \nPui Tak Center \n2216 S Wentworth \n6:00 pm
URL:https://faithtable.org/event/community-conversation-strategic-plan-on-community-policing-4/
LOCATION:Pui Tak Center\, 2216 S Wentworth\, Chicago\, IL\, United States
CATEGORIES:Community Meeting,Community Peace Events
ATTACH;FMTTYPE=image/png:https://faithtable.org/wp-content/uploads/2023/09/strategic-plan-community-policing-discussion-nights-eng-fall-2023.png
END:VEVENT
BEGIN:VEVENT
DTSTART;TZID=America/Chicago:20230928T180000
DTEND;TZID=America/Chicago:20230928T200000
DTSTAMP:20260423T060101
CREATED:20230918T174115Z
LAST-MODIFIED:20230918T174712Z
UID:5209-1695924000-1695931200@faithtable.org
SUMMARY:Community Conversation on Community Policing Strategic Plan
DESCRIPTION:Community Conversation on Community Policing Strategic Plan \n12th District Conversation Night \nWhitney Young High School \n211 S. Laflin Street \n6:00 pm
URL:https://faithtable.org/event/community-conversation-on-community-policing-strategic-plan/
LOCATION:Whitney Young High School\, 211 S Laflin Street\, Chicago\, IL\, 60607\, United States
CATEGORIES:Community Meeting,Community Peace Events
ATTACH;FMTTYPE=image/png:https://faithtable.org/wp-content/uploads/2023/09/12th-dist-police-station-for-immigrant-discussion-nights-eng-fall-2023.png
END:VEVENT
END:VCALENDAR