BEGIN:VCALENDAR
VERSION:2.0
PRODID:-//Faith Table - ECPv6.15.20//NONSGML v1.0//EN
CALSCALE:GREGORIAN
METHOD:PUBLISH
X-ORIGINAL-URL:https://faithtable.org
X-WR-CALDESC:Events for Faith Table
REFRESH-INTERVAL;VALUE=DURATION:PT1H
X-Robots-Tag:noindex
X-PUBLISHED-TTL:PT1H
BEGIN:VTIMEZONE
TZID:America/Chicago
BEGIN:DAYLIGHT
TZOFFSETFROM:-0600
TZOFFSETTO:-0500
TZNAME:CDT
DTSTART:20230312T080000
END:DAYLIGHT
BEGIN:STANDARD
TZOFFSETFROM:-0500
TZOFFSETTO:-0600
TZNAME:CST
DTSTART:20231105T070000
END:STANDARD
BEGIN:DAYLIGHT
TZOFFSETFROM:-0600
TZOFFSETTO:-0500
TZNAME:CDT
DTSTART:20240310T080000
END:DAYLIGHT
BEGIN:STANDARD
TZOFFSETFROM:-0500
TZOFFSETTO:-0600
TZNAME:CST
DTSTART:20241103T070000
END:STANDARD
BEGIN:DAYLIGHT
TZOFFSETFROM:-0600
TZOFFSETTO:-0500
TZNAME:CDT
DTSTART:20250309T080000
END:DAYLIGHT
BEGIN:STANDARD
TZOFFSETFROM:-0500
TZOFFSETTO:-0600
TZNAME:CST
DTSTART:20251102T070000
END:STANDARD
END:VTIMEZONE
BEGIN:VEVENT
DTSTART;TZID=America/Chicago:20240702T180000
DTEND;TZID=America/Chicago:20240702T210000
DTSTAMP:20260420T222348
CREATED:20240612T170109Z
LAST-MODIFIED:20240612T170109Z
UID:5527-1719943200-1719954000@faithtable.org
SUMMARY:Street Mass
DESCRIPTION:Join the St Agnes of Bohemia Parish community as we celebrate with: \nSector San Isidro Labrador \nThursday\, June 29th @ 6:00 pm rosary followed by mass at 7:00 pm \n2600 South Millard
URL:https://faithtable.org/event/street-mass-10/
LOCATION:2600 block South Springfield\, 2600 South Springfield\, Chicago\, IL\, 60632\, United States
CATEGORIES:Block Club event,Community Peace Events,Summer Street Masses
ATTACH;FMTTYPE=image/jpeg:https://faithtable.org/wp-content/uploads/2023/06/photo-7-june-16-2023-hands-held-scaled.jpeg
ORGANIZER;CN="St Agnes of Bohemia Parish":MAILTO:stagnes-centrstagnes-central@archchicago.org
END:VEVENT
BEGIN:VEVENT
DTSTART;TZID=America/Chicago:20240709T180000
DTEND;TZID=America/Chicago:20240709T210000
DTSTAMP:20260420T222348
CREATED:20240612T170757Z
LAST-MODIFIED:20240612T174645Z
UID:5529-1720548000-1720558800@faithtable.org
SUMMARY:Street Mass
DESCRIPTION:Join the St Agnes of Bohemia Parish community as we celebrate with: \nSector San Pio X \nTuesday\, July 9th @ 6:00pm rosary followed by mass @ 7:00 pm \n2400 S. Avers \n[Event is on Avers between 24th and 25th Streets]
URL:https://faithtable.org/event/street-mass-11/
LOCATION:2400 South Avers\, 2400 South Avers\, Chicago\, IL\, 60623\, United States
CATEGORIES:Block Club event,Community Peace Events,Summer Street Masses
ATTACH;FMTTYPE=image/jpeg:https://faithtable.org/wp-content/uploads/2023/06/photo-7-june-16-2023-hands-held-scaled.jpeg
ORGANIZER;CN="St Agnes of Bohemia Parish":MAILTO:stagnes-centrstagnes-central@archchicago.org
END:VEVENT
BEGIN:VEVENT
DTSTART;TZID=America/Chicago:20240711T080000
DTEND;TZID=America/Chicago:20240711T170000
DTSTAMP:20260420T222348
CREATED:20240612T163753Z
LAST-MODIFIED:20240612T174738Z
UID:5520-1720684800-1720717200@faithtable.org
SUMMARY:Street Mass
DESCRIPTION:Join the St Agnes of Bohemia Parish community as we celebrate with the: \nSector San Judas Tadeo \nThursday\, July 11th @ 6:00 pm rosary followed by mass @ 7:00 pm \nEvent on Avers between 30th and 31st Streets
URL:https://faithtable.org/event/street-mass-8/
LOCATION:3000 South Avers\, 3000 South Avers\, Chicago\, IL\, 60623\, United States
CATEGORIES:Block Club event,Community Peace Events,Summer Street Masses
ATTACH;FMTTYPE=image/jpeg:https://faithtable.org/wp-content/uploads/2023/06/photo-7-june-16-2023-hands-held-scaled.jpeg
ORGANIZER;CN="St Agnes of Bohemia Parish":MAILTO:stagnes-centrstagnes-central@archchicago.org
END:VEVENT
BEGIN:VEVENT
DTSTART;TZID=America/Chicago:20240716T180000
DTEND;TZID=America/Chicago:20240716T210000
DTSTAMP:20260420T222348
CREATED:20240612T164611Z
LAST-MODIFIED:20240612T173706Z
UID:5524-1721152800-1721163600@faithtable.org
SUMMARY:Street Mass
DESCRIPTION:Join the St Agnes of Bohemia Parish community as we celebrate with the \nSector San Agustin \nTuesday\, July 16th @ 6:00pm rosary followed by mass @ 7:00 pm \n2700 block South Springfield \n[Event will be held on Springfield Avenue between 27th and 28th Streets]
URL:https://faithtable.org/event/street-mass-9/
LOCATION:2700 S Springfield Avenue\, 2700 South Springfield Avenue\, Chicago\, IL\, 60623\, United States
CATEGORIES:Block Club event,Community Peace Events,Summer Street Masses
ATTACH;FMTTYPE=image/jpeg:https://faithtable.org/wp-content/uploads/2023/06/photo-7-june-16-2023-hands-held-scaled.jpeg
ORGANIZER;CN="St Agnes of Bohemia Parish":MAILTO:stagnes-centrstagnes-central@archchicago.org
END:VEVENT
BEGIN:VEVENT
DTSTART;TZID=America/Chicago:20240718T180000
DTEND;TZID=America/Chicago:20240718T210000
DTSTAMP:20260420T222348
CREATED:20240612T174420Z
LAST-MODIFIED:20240612T174420Z
UID:5548-1721325600-1721336400@faithtable.org
SUMMARY:Street Mass
DESCRIPTION:Join the St Agnes of Bohemia Parish community as we celebrate with the: \nSector San Miguel Arcangel \nThursday\, July 18th @ 6:00pm rosary followed by mass @ 7:00 pm \n3100 block South Millard \n[Event will be held on Millard between 31st and 32nd Streets]
URL:https://faithtable.org/event/street-mass-17/
LOCATION:3100 South Millard\, 3100 South Millard\, Chicago\, IL\, 60623\, United States
CATEGORIES:Block Club event,Community Peace Events,Summer Street Masses
ATTACH;FMTTYPE=image/jpeg:https://faithtable.org/wp-content/uploads/2023/06/photo-7-june-16-2023-hands-held-scaled.jpeg
ORGANIZER;CN="St Agnes of Bohemia Parish":MAILTO:stagnes-centrstagnes-central@archchicago.org
END:VEVENT
BEGIN:VEVENT
DTSTART;VALUE=DATE:20240720
DTEND;VALUE=DATE:20240722
DTSTAMP:20260420T222348
CREATED:20240715T215343Z
LAST-MODIFIED:20240715T215343Z
UID:5587-1721433600-1721606399@faithtable.org
SUMMARY:St Pius V Kermes Parish Festival
DESCRIPTION:
URL:https://faithtable.org/event/st-pius-v-kermes-parish-festival-2/
LOCATION:St Pius V Catholic Church\, 1919 S. Ashland Avenue\, Chicago\, IL\, 60608\, United States
CATEGORIES:Church Festival,Community Peace Events,Kermes
ATTACH;FMTTYPE=image/jpeg:https://faithtable.org/wp-content/uploads/2024/07/st-pius-v-kermes-2024-raffle.jpg
ORGANIZER;CN="Fr. Tom Lynch":MAILTO:tacol48@hotmail.com
END:VEVENT
BEGIN:VEVENT
DTSTART;TZID=America/Chicago:20240720T160000
DTEND;TZID=America/Chicago:20240720T190000
DTSTAMP:20260420T222348
CREATED:20240712T204344Z
LAST-MODIFIED:20240712T204512Z
UID:5571-1721491200-1721502000@faithtable.org
SUMMARY:INCREASE THE PEACE SUMMER SERIES CORNELL PARK
DESCRIPTION:
URL:https://faithtable.org/event/increase-the-peace-summer-series-cornell-park/
LOCATION:CORNELL SQUARE PARK\, 1809 WEST 50TH STREET\, CHICAGO\, United States
CATEGORIES:Community Peace Events,Summer Street Masses
ATTACH;FMTTYPE=image/jpeg:https://faithtable.org/wp-content/uploads/2024/07/ITP-Summer-Series-07.20.2024-ENG.png.jpg
ORGANIZER;CN="Increase the Peace":MAILTO:increasethepeacechi@gmail.com
END:VEVENT
BEGIN:VEVENT
DTSTART;TZID=America/Chicago:20240726T160000
DTEND;TZID=America/Chicago:20240726T190000
DTSTAMP:20260420T222348
CREATED:20240712T205235Z
LAST-MODIFIED:20240712T205235Z
UID:5577-1722009600-1722020400@faithtable.org
SUMMARY:INCREASE THE PEACE SUMMER SERIES
DESCRIPTION:
URL:https://faithtable.org/event/increase-the-peace-summer-series/
LOCATION:1900 West 48th Street\, 1900 West 48th Street\, Chicago\, IL\, 60609\, United States
CATEGORIES:Community Peace Events,Summer Street Masses,Unity Event
ATTACH;FMTTYPE=image/jpeg:https://faithtable.org/wp-content/uploads/2024/07/ITP-Summer-Series-07.26.2024.jpg
ORGANIZER;CN="Increase the Peace":MAILTO:increasethepeacechi@gmail.com
END:VEVENT
END:VCALENDAR