BEGIN:VCALENDAR
VERSION:2.0
PRODID:-//Faith Table - ECPv6.15.20//NONSGML v1.0//EN
CALSCALE:GREGORIAN
METHOD:PUBLISH
X-WR-CALNAME:Faith Table
X-ORIGINAL-URL:https://faithtable.org
X-WR-CALDESC:Events for Faith Table
REFRESH-INTERVAL;VALUE=DURATION:PT1H
X-Robots-Tag:noindex
X-PUBLISHED-TTL:PT1H
BEGIN:VTIMEZONE
TZID:America/Chicago
BEGIN:DAYLIGHT
TZOFFSETFROM:-0600
TZOFFSETTO:-0500
TZNAME:CDT
DTSTART:20230312T080000
END:DAYLIGHT
BEGIN:STANDARD
TZOFFSETFROM:-0500
TZOFFSETTO:-0600
TZNAME:CST
DTSTART:20231105T070000
END:STANDARD
BEGIN:DAYLIGHT
TZOFFSETFROM:-0600
TZOFFSETTO:-0500
TZNAME:CDT
DTSTART:20240310T080000
END:DAYLIGHT
BEGIN:STANDARD
TZOFFSETFROM:-0500
TZOFFSETTO:-0600
TZNAME:CST
DTSTART:20241103T070000
END:STANDARD
BEGIN:DAYLIGHT
TZOFFSETFROM:-0600
TZOFFSETTO:-0500
TZNAME:CDT
DTSTART:20250309T080000
END:DAYLIGHT
BEGIN:STANDARD
TZOFFSETFROM:-0500
TZOFFSETTO:-0600
TZNAME:CST
DTSTART:20251102T070000
END:STANDARD
END:VTIMEZONE
BEGIN:VEVENT
DTSTART;VALUE=DATE:20241015
DTEND;VALUE=DATE:20241108
DTSTAMP:20260420T120354
CREATED:20241008T162917Z
LAST-MODIFIED:20241107T211137Z
UID:5621-1728950400-1731023999@faithtable.org
SUMMARY:BLOCK DECORATING CONTEST ACROSS OUR NEIGHBORHOODS
DESCRIPTION:
URL:https://faithtable.org/event/block-decorating-contest/
CATEGORIES:Block Club event,Community Peace Events,Unity Event
ATTACH;FMTTYPE=image/png:https://faithtable.org/wp-content/uploads/2024/10/COSECHA-DECORATING-CONTEST-ANNOUNCEMENT-3.0-OCT-2024.png
ORGANIZER;CN="Fr Brendan Curran%2C O.P.":MAILTO:bcurran@resurrectionproject.org
END:VEVENT
BEGIN:VEVENT
DTSTART;TZID=America/Chicago:20241107T173000
DTEND;TZID=America/Chicago:20241107T183000
DTSTAMP:20260420T120354
CREATED:20241107T211956Z
LAST-MODIFIED:20241107T211956Z
UID:5675-1731000600-1731004200@faithtable.org
SUMMARY:KNOW YOUR RIGHTS CAMPAIGN KICKOFF
DESCRIPTION:
URL:https://faithtable.org/event/know-your-rights-campaign-kickoff/
LOCATION:Zocalo de Pilsen\, 1818 S Paulina\, Chicago\, IL\, 60608\, United States
CATEGORIES:Coalition Meeting,Community Peace Events,criminal justice event,GET OUT THE VOTE,immigrant rights,protest,Unity Event
ATTACH;FMTTYPE=image/jpeg:https://faithtable.org/wp-content/uploads/2024/11/Zocalo-gathering-11.7.2024-esp.jpg
END:VEVENT
BEGIN:VEVENT
DTSTART;TZID=America/Chicago:20241121T170000
DTEND;TZID=America/Chicago:20241121T210000
DTSTAMP:20260420T120354
CREATED:20241107T210135Z
LAST-MODIFIED:20241107T210135Z
UID:5640-1732208400-1732222800@faithtable.org
SUMMARY:BACK OF THE YARDS THANKSGIVING DINNER
DESCRIPTION:
URL:https://faithtable.org/event/back-of-the-yards-thanksgiving-dinner/
LOCATION:Davis Square Park\, 4430 S Marshfield Avenue\, Chicago\, IL\, 60609\, United States
CATEGORIES:Community Peace Events,Unity Event
ATTACH;FMTTYPE=image/jpeg:https://faithtable.org/wp-content/uploads/2024/11/thanksgiving-BOY-Thurs-nov-21-2024.jpg
END:VEVENT
END:VCALENDAR