BEGIN:VCALENDAR
VERSION:2.0
PRODID:-//Faith Table - ECPv6.15.20//NONSGML v1.0//EN
CALSCALE:GREGORIAN
METHOD:PUBLISH
X-WR-CALNAME:Faith Table
X-ORIGINAL-URL:https://faithtable.org
X-WR-CALDESC:Events for Faith Table
REFRESH-INTERVAL;VALUE=DURATION:PT1H
X-Robots-Tag:noindex
X-PUBLISHED-TTL:PT1H
BEGIN:VTIMEZONE
TZID:America/Chicago
BEGIN:DAYLIGHT
TZOFFSETFROM:-0600
TZOFFSETTO:-0500
TZNAME:CDT
DTSTART:20230312T080000
END:DAYLIGHT
BEGIN:STANDARD
TZOFFSETFROM:-0500
TZOFFSETTO:-0600
TZNAME:CST
DTSTART:20231105T070000
END:STANDARD
BEGIN:DAYLIGHT
TZOFFSETFROM:-0600
TZOFFSETTO:-0500
TZNAME:CDT
DTSTART:20240310T080000
END:DAYLIGHT
BEGIN:STANDARD
TZOFFSETFROM:-0500
TZOFFSETTO:-0600
TZNAME:CST
DTSTART:20241103T070000
END:STANDARD
BEGIN:DAYLIGHT
TZOFFSETFROM:-0600
TZOFFSETTO:-0500
TZNAME:CDT
DTSTART:20250309T080000
END:DAYLIGHT
BEGIN:STANDARD
TZOFFSETFROM:-0500
TZOFFSETTO:-0600
TZNAME:CST
DTSTART:20251102T070000
END:STANDARD
END:VTIMEZONE
BEGIN:VEVENT
DTSTART;TZID=America/Chicago:20240520T180000
DTEND;TZID=America/Chicago:20240520T200000
DTSTAMP:20260421T034940
CREATED:20240515T192842Z
LAST-MODIFIED:20240515T192842Z
UID:5464-1716228000-1716235200@faithtable.org
SUMMARY:YOUTH LED TOWN HALL - LET'S TALK ABOUT OUR JUDICIAL SYSTEM
DESCRIPTION:
URL:https://faithtable.org/event/youth-led-town-hall-lets-talk-about-our-judicial-system/
LOCATION:BUILD CHICAGO\, 5100 West Harrison\, Chicago\, IL\, 60644\, United States
CATEGORIES:Community Meeting,Community Peace Events,criminal justice event
ATTACH;FMTTYPE=image/jpeg:https://faithtable.org/wp-content/uploads/2024/05/Gap-Builders-Townhall-Judicial-1-at-build-chgo-may-20.jpg
END:VEVENT
END:VCALENDAR