BEGIN:VCALENDAR
VERSION:2.0
PRODID:-//Faith Table - ECPv6.15.20//NONSGML v1.0//EN
CALSCALE:GREGORIAN
METHOD:PUBLISH
X-WR-CALNAME:Faith Table
X-ORIGINAL-URL:https://faithtable.org
X-WR-CALDESC:Events for Faith Table
REFRESH-INTERVAL;VALUE=DURATION:PT1H
X-Robots-Tag:noindex
X-PUBLISHED-TTL:PT1H
BEGIN:VTIMEZONE
TZID:America/Chicago
BEGIN:DAYLIGHT
TZOFFSETFROM:-0600
TZOFFSETTO:-0500
TZNAME:CDT
DTSTART:20240310T080000
END:DAYLIGHT
BEGIN:STANDARD
TZOFFSETFROM:-0500
TZOFFSETTO:-0600
TZNAME:CST
DTSTART:20241103T070000
END:STANDARD
BEGIN:DAYLIGHT
TZOFFSETFROM:-0600
TZOFFSETTO:-0500
TZNAME:CDT
DTSTART:20250309T080000
END:DAYLIGHT
BEGIN:STANDARD
TZOFFSETFROM:-0500
TZOFFSETTO:-0600
TZNAME:CST
DTSTART:20251102T070000
END:STANDARD
BEGIN:DAYLIGHT
TZOFFSETFROM:-0600
TZOFFSETTO:-0500
TZNAME:CDT
DTSTART:20260308T080000
END:DAYLIGHT
BEGIN:STANDARD
TZOFFSETFROM:-0500
TZOFFSETTO:-0600
TZNAME:CST
DTSTART:20261101T070000
END:STANDARD
END:VTIMEZONE
BEGIN:VEVENT
DTSTART;TZID=America/Chicago:20251205T110000
DTEND;TZID=America/Chicago:20251205T130000
DTSTAMP:20260420T011205
CREATED:20251119T172211Z
LAST-MODIFIED:20260107T180537Z
UID:6058-1764932400-1764939600@faithtable.org
SUMMARY:FAITHFUL FRIDAYS: FAITH OVER FEAR PRAYER VIGIL AT THE ARCH OF LITTLE VILLAGE
DESCRIPTION:
URL:https://faithtable.org/event/faithful-fridays-faith-over-fear-prayer-vigil-at-the-arch-of-little-village/
LOCATION:EL ARCO DE LA VILLITA\, 2559 SOUTH TROY\, CHICAGO\, IL\, 60623\, United States
CATEGORIES:Community Peace Events,immigrant rights,Prayer Event
ATTACH;FMTTYPE=image/png:https://faithtable.org/wp-content/uploads/2025/11/faithful-fridays-faith-over-fear-event-LV-dec-5-2025.jpg.png
END:VEVENT
END:VCALENDAR