BEGIN:VCALENDAR
VERSION:2.0
PRODID:-//Faith Table - ECPv6.15.20//NONSGML v1.0//EN
CALSCALE:GREGORIAN
METHOD:PUBLISH
X-WR-CALNAME:Faith Table
X-ORIGINAL-URL:https://faithtable.org
X-WR-CALDESC:Events for Faith Table
REFRESH-INTERVAL;VALUE=DURATION:PT1H
X-Robots-Tag:noindex
X-PUBLISHED-TTL:PT1H
BEGIN:VTIMEZONE
TZID:America/Chicago
BEGIN:DAYLIGHT
TZOFFSETFROM:-0600
TZOFFSETTO:-0500
TZNAME:CDT
DTSTART:20240310T080000
END:DAYLIGHT
BEGIN:STANDARD
TZOFFSETFROM:-0500
TZOFFSETTO:-0600
TZNAME:CST
DTSTART:20241103T070000
END:STANDARD
BEGIN:DAYLIGHT
TZOFFSETFROM:-0600
TZOFFSETTO:-0500
TZNAME:CDT
DTSTART:20250309T080000
END:DAYLIGHT
BEGIN:STANDARD
TZOFFSETFROM:-0500
TZOFFSETTO:-0600
TZNAME:CST
DTSTART:20251102T070000
END:STANDARD
BEGIN:DAYLIGHT
TZOFFSETFROM:-0600
TZOFFSETTO:-0500
TZNAME:CDT
DTSTART:20260308T080000
END:DAYLIGHT
BEGIN:STANDARD
TZOFFSETFROM:-0500
TZOFFSETTO:-0600
TZNAME:CST
DTSTART:20261101T070000
END:STANDARD
END:VTIMEZONE
BEGIN:VEVENT
DTSTART;TZID=America/Chicago:20250802T180000
DTEND;TZID=America/Chicago:20250802T203000
DTSTAMP:20260420T144059
CREATED:20250609T200929Z
LAST-MODIFIED:20250619T152223Z
UID:5942-1754157600-1754166600@faithtable.org
SUMMARY:WEST TOWN STREET MASS AND BLOCK PARTY
DESCRIPTION:
URL:https://faithtable.org/event/west-town-street-mass-and-block-party/
LOCATION:1612 West Ohio Street\, 1612 West Ohio Street\, Chicago\, 60622\, United States
CATEGORIES:STREET MASS,Summer Street Masses
ATTACH;FMTTYPE=image/png:https://faithtable.org/wp-content/uploads/2025/06/Pilsen-Street-masses-rev-june-4-2025-e1749238710899.png
ORGANIZER;CN="Fr Brendan Curran%2C O.P.":MAILTO:bcurran@resurrectionproject.org
END:VEVENT
BEGIN:VEVENT
DTSTART;TZID=America/Chicago:20250808T180000
DTEND;TZID=America/Chicago:20250808T200000
DTSTAMP:20260420T144059
CREATED:20250609T201948Z
LAST-MODIFIED:20250808T153401Z
UID:5953-1754676000-1754683200@faithtable.org
SUMMARY:PILSEN STREET MASS AND BLOCK PARTY
DESCRIPTION:
URL:https://faithtable.org/event/pilsen-street-mass-and-block-party-6/
LOCATION:1727 WEST 18TH PLACE\, 1727 WEST 18TH PLACE\, Chicago\, IL\, 60608\, United States
CATEGORIES:STREET MASS,Summer Street Masses
ATTACH;FMTTYPE=image/png:https://faithtable.org/wp-content/uploads/2025/06/Pilsen-Street-masses-rev-june-4-2025-e1749238710899.png
ORGANIZER;CN="Fr Brendan Curran%2C O.P.":MAILTO:bcurran@resurrectionproject.org
END:VEVENT
BEGIN:VEVENT
DTSTART;TZID=America/Chicago:20251101T100000
DTEND;TZID=America/Chicago:20251101T113000
DTSTAMP:20260420T144059
CREATED:20251031T174247Z
LAST-MODIFIED:20251031T174723Z
UID:6027-1761991200-1761996600@faithtable.org
SUMMARY:Misa Popular in Solidarity with Immigrants at Broadview Detention Center
DESCRIPTION:resur
URL:https://faithtable.org/event/misa-popular-in-solidarity-with-immigrants-at-broadview-detention-center/
LOCATION:Broadview Detention Center\, 1930 Beach Street\, Broadview\, IL\, 60155\, United States
CATEGORIES:Community Peace Events,immigrant rights,Prayer Event,STREET MASS,Unity Event
ATTACH;FMTTYPE=image/png:https://faithtable.org/wp-content/uploads/2025/10/Screenshot-2025-10-31-at-12.40.44-PM.png
END:VEVENT
END:VCALENDAR