BEGIN:VCALENDAR
VERSION:2.0
PRODID:-//Faith Table - ECPv6.15.20//NONSGML v1.0//EN
CALSCALE:GREGORIAN
METHOD:PUBLISH
X-WR-CALNAME:Faith Table
X-ORIGINAL-URL:https://faithtable.org
X-WR-CALDESC:Events for Faith Table
REFRESH-INTERVAL;VALUE=DURATION:PT1H
X-Robots-Tag:noindex
X-PUBLISHED-TTL:PT1H
BEGIN:VTIMEZONE
TZID:America/Chicago
BEGIN:DAYLIGHT
TZOFFSETFROM:-0600
TZOFFSETTO:-0500
TZNAME:CDT
DTSTART:20220313T080000
END:DAYLIGHT
BEGIN:STANDARD
TZOFFSETFROM:-0500
TZOFFSETTO:-0600
TZNAME:CST
DTSTART:20221106T070000
END:STANDARD
BEGIN:DAYLIGHT
TZOFFSETFROM:-0600
TZOFFSETTO:-0500
TZNAME:CDT
DTSTART:20230312T080000
END:DAYLIGHT
BEGIN:STANDARD
TZOFFSETFROM:-0500
TZOFFSETTO:-0600
TZNAME:CST
DTSTART:20231105T070000
END:STANDARD
BEGIN:DAYLIGHT
TZOFFSETFROM:-0600
TZOFFSETTO:-0500
TZNAME:CDT
DTSTART:20240310T080000
END:DAYLIGHT
BEGIN:STANDARD
TZOFFSETFROM:-0500
TZOFFSETTO:-0600
TZNAME:CST
DTSTART:20241103T070000
END:STANDARD
END:VTIMEZONE
BEGIN:VEVENT
DTSTART;TZID=America/Chicago:20230801T190000
DTEND;TZID=America/Chicago:20230801T203000
DTSTAMP:20260421T181334
CREATED:20230623T174137Z
LAST-MODIFIED:20230623T174137Z
UID:5107-1690916400-1690921800@faithtable.org
SUMMARY:Street Mass
DESCRIPTION:Join the St Agnes of Bohemia Parish community as we celebrate with: \nSector San Jose \nTuesday\, August 1st @ 7:00pm \n2300 block South Homan
URL:https://faithtable.org/event/street-mass-7/
LOCATION:2300 block South Homan\, 2300 South Homan\, Chicago\, IL\, 60632\, United States
CATEGORIES:Community Peace Events,Summer Street Masses
ATTACH;FMTTYPE=image/jpeg:https://faithtable.org/wp-content/uploads/2023/06/st-agnes-street-mass-image-fr-don.jpg
ORGANIZER;CN="St Agnes of Bohemia Parish":MAILTO:stagnes-centrstagnes-central@archchicago.org
END:VEVENT
BEGIN:VEVENT
DTSTART;TZID=America/Chicago:20230804T180000
DTEND;TZID=America/Chicago:20230804T200000
DTSTAMP:20260421T181334
CREATED:20230601T171844Z
LAST-MODIFIED:20230601T171849Z
UID:5022-1691172000-1691179200@faithtable.org
SUMMARY:Street Mass and Block Party
DESCRIPTION:Join us as families and neighbors gather for a Street Mass and block party celebration! \nFriday\, August 4th \n1803 West 17th Street \n(Wood and 17th Street) \n6:00 pm
URL:https://faithtable.org/event/street-mass-and-block-party-5/
LOCATION:1800 block West 17th Street\, 1803 West 17th Street\, Chicago\, IL\, 60608\, United States
CATEGORIES:Community Peace Events,Summer Street Masses
ATTACH;FMTTYPE=image/jpeg:https://faithtable.org/wp-content/uploads/2023/06/davidturnerphoto-19-scaled.jpg
ORGANIZER;CN="Fr Brendan Curran%2C O.P.":MAILTO:bcurran@resurrectionproject.org
END:VEVENT
BEGIN:VEVENT
DTSTART;TZID=America/Chicago:20230811T180000
DTEND;TZID=America/Chicago:20230811T200000
DTSTAMP:20260421T181334
CREATED:20230601T172132Z
LAST-MODIFIED:20230601T172524Z
UID:5024-1691776800-1691784000@faithtable.org
SUMMARY:Street Mass and Block Party
DESCRIPTION:Join us as families and neighbors gather for a Street Mass and block party celebration! \nFriday\, August 11th \n2238 West 21st Place \n(21st Place and Oakley Street) \n6:00 pm
URL:https://faithtable.org/event/street-mass-and-block-party-6/
LOCATION:2200 block West 21st Place\, 2238 West 21st Place\, Chicago\, IL\, 60608\, United States
CATEGORIES:Community Peace Events,Summer Street Masses
ATTACH;FMTTYPE=image/jpeg:https://faithtable.org/wp-content/uploads/2023/06/davidturnerphoto-19-scaled.jpg
ORGANIZER;CN="Fr Brendan Curran%2C O.P.":MAILTO:bcurran@resurrectionproject.org
END:VEVENT
BEGIN:VEVENT
DTSTART;TZID=America/Chicago:20230818T180000
DTEND;TZID=America/Chicago:20230818T200000
DTSTAMP:20260421T181334
CREATED:20230601T175219Z
LAST-MODIFIED:20230602T170617Z
UID:5026-1692381600-1692388800@faithtable.org
SUMMARY:Street Mass and Block Party
DESCRIPTION:Join us as families and neighbors gather for a Street Mass and block party celebration! \nFriday\, August 18th \n1614 West Cullerton \n(Ashland and Cullerton) \n6:00 pm
URL:https://faithtable.org/event/5026/
LOCATION:1600 block West Cullerton\, 1614 West Cullerton\, Chicago\, IL\, 60608\, United States
CATEGORIES:Community Peace Events,Summer Street Masses
ATTACH;FMTTYPE=image/jpeg:https://faithtable.org/wp-content/uploads/2023/06/davidturnerphoto-19-scaled.jpg
ORGANIZER;CN="Fr Brendan Curran%2C O.P.":MAILTO:bcurran@resurrectionproject.org
END:VEVENT
BEGIN:VEVENT
DTSTART;TZID=America/Chicago:20230825T180000
DTEND;TZID=America/Chicago:20230825T220000
DTSTAMP:20260421T181334
CREATED:20230601T175917Z
LAST-MODIFIED:20230816T155644Z
UID:5028-1692986400-1693000800@faithtable.org
SUMMARY:Street Mass and Zocalo Block Party
DESCRIPTION:Join us as families and neighbors gather for the annual closing Street Mass and block party celebration en el Zocalo! \nDJ! Food! \ninformation fair! \nprizes! \nhealth care shots and free check ups! \nDanza Azteca! \nChinelos! and More! \nFriday\, August 18th \n1614 West Cullerton \n(Ashland and Cullerton) \n6:00 pm to 10:00 pm \nMass celebrant: Fr. Don Nevins\, Pastor\, St Agnes of Bohemia
URL:https://faithtable.org/event/street-mass-and-zocalo-block-party/
LOCATION:Zocalo de Pilsen\, 1818 S Paulina\, Chicago\, IL\, 60608\, United States
CATEGORIES:Community Peace Events,Concert,Summer Street Masses
ATTACH;FMTTYPE=image/png:https://faithtable.org/wp-content/uploads/2023/06/NUESTRA-MISA-AUG-25-2023-FINAL.png
ORGANIZER;CN="Fr Brendan Curran%2C O.P.":MAILTO:bcurran@resurrectionproject.org
END:VEVENT
BEGIN:VEVENT
DTSTART;TZID=America/Chicago:20230827T110000
DTEND;TZID=America/Chicago:20230827T120000
DTSTAMP:20260421T181334
CREATED:20230620T165745Z
LAST-MODIFIED:20230623T175137Z
UID:5050-1693134000-1693137600@faithtable.org
SUMMARY:St Paul Church Outdoor Mass
DESCRIPTION:The St Paul Catholic Community invites you to join in an outdoor mass in front of our church. \n11:00 am \nCome join us!
URL:https://faithtable.org/event/st-paul-church-outdoor-mass-3/
LOCATION:St Paul Church\, 2127 West 22nd Place\, Chicago\, IL\, 60608\, United States
CATEGORIES:Community Peace Events,Summer Street Masses
ATTACH;FMTTYPE=image/jpeg:https://faithtable.org/wp-content/uploads/2023/06/st-paul-church.jpg
END:VEVENT
END:VCALENDAR