BEGIN:VCALENDAR
VERSION:2.0
PRODID:-//Faith Table - ECPv6.15.20//NONSGML v1.0//EN
CALSCALE:GREGORIAN
METHOD:PUBLISH
X-ORIGINAL-URL:https://faithtable.org
X-WR-CALDESC:Events for Faith Table
REFRESH-INTERVAL;VALUE=DURATION:PT1H
X-Robots-Tag:noindex
X-PUBLISHED-TTL:PT1H
BEGIN:VTIMEZONE
TZID:America/Chicago
BEGIN:DAYLIGHT
TZOFFSETFROM:-0600
TZOFFSETTO:-0500
TZNAME:CDT
DTSTART:20230312T080000
END:DAYLIGHT
BEGIN:STANDARD
TZOFFSETFROM:-0500
TZOFFSETTO:-0600
TZNAME:CST
DTSTART:20231105T070000
END:STANDARD
BEGIN:DAYLIGHT
TZOFFSETFROM:-0600
TZOFFSETTO:-0500
TZNAME:CDT
DTSTART:20240310T080000
END:DAYLIGHT
BEGIN:STANDARD
TZOFFSETFROM:-0500
TZOFFSETTO:-0600
TZNAME:CST
DTSTART:20241103T070000
END:STANDARD
BEGIN:DAYLIGHT
TZOFFSETFROM:-0600
TZOFFSETTO:-0500
TZNAME:CDT
DTSTART:20250309T080000
END:DAYLIGHT
BEGIN:STANDARD
TZOFFSETFROM:-0500
TZOFFSETTO:-0600
TZNAME:CST
DTSTART:20251102T070000
END:STANDARD
END:VTIMEZONE
BEGIN:VEVENT
DTSTART;TZID=America/Chicago:20240802T180000
DTEND;TZID=America/Chicago:20240802T210000
DTSTAMP:20260420T220803
CREATED:20240612T155719Z
LAST-MODIFIED:20240612T155719Z
UID:5506-1722621600-1722632400@faithtable.org
SUMMARY:Street Mass and Block Party
DESCRIPTION:Join us as families and neighbors gather for a Street Mass and block party celebration! \nFriday\, August 2nd \n1711 West 21st Street \n[Event on 21st Street between Paulina and Wood Streets] \n6:00 pm
URL:https://faithtable.org/event/street-mass-and-block-party-14/
LOCATION:1711 West 21st Street\, 1711 West 21st Street\, Chicago\, IL\, 60608\, United States
CATEGORIES:Block Club event,Summer Street Masses
ATTACH;FMTTYPE=image/jpeg:https://faithtable.org/wp-content/uploads/2023/06/photo-7-june-16-2023-hands-held-scaled.jpeg
END:VEVENT
BEGIN:VEVENT
DTSTART;TZID=America/Chicago:20240803T160000
DTEND;TZID=America/Chicago:20240803T190000
DTSTAMP:20260420T220803
CREATED:20240712T205611Z
LAST-MODIFIED:20240712T205611Z
UID:5581-1722700800-1722711600@faithtable.org
SUMMARY:INCREASE THE PEACE SUMMER SERIES
DESCRIPTION:
URL:https://faithtable.org/event/increase-the-peace-summer-series-2/
LOCATION:5200 S Damen\, 5200 South Damen\, Chicago\, IL\, 60609\, United States
CATEGORIES:Community Peace Events,Summer Street Masses,Unity Event
ATTACH;FMTTYPE=image/jpeg:https://faithtable.org/wp-content/uploads/2024/07/ITP-Summer-Series-08.03.2024.jpg
ORGANIZER;CN="Increase the Peace":MAILTO:increasethepeacechi@gmail.com
END:VEVENT
BEGIN:VEVENT
DTSTART;TZID=America/Chicago:20240809T180000
DTEND;TZID=America/Chicago:20240809T210000
DTSTAMP:20260420T220803
CREATED:20240612T160421Z
LAST-MODIFIED:20240612T160421Z
UID:5509-1723226400-1723237200@faithtable.org
SUMMARY:Street Mass and Block Party
DESCRIPTION:Join us as families and neighbors gather for a Street Mass and block party celebration! \nFriday\, August 9th \n1614 West Cullerton \n[Event on Cullerton between Ashland and Paulina Streets] \n6:00 pm
URL:https://faithtable.org/event/street-mass-and-block-party-15/
LOCATION:1600 block West Cullerton\, 1614 West Cullerton\, Chicago\, IL\, 60608\, United States
CATEGORIES:Block Club event,Summer Street Masses
ATTACH;FMTTYPE=image/jpeg:https://faithtable.org/wp-content/uploads/2023/06/photo-7-june-16-2023-hands-held-scaled.jpeg
END:VEVENT
BEGIN:VEVENT
DTSTART;TZID=America/Chicago:20240816T180000
DTEND;TZID=America/Chicago:20240816T210000
DTSTAMP:20260420T220803
CREATED:20240612T161125Z
LAST-MODIFIED:20240612T161125Z
UID:5511-1723831200-1723842000@faithtable.org
SUMMARY:Street Mass and Block Party
DESCRIPTION:Join us as families and neighbors gather for a Street Mass and block party celebration! \nFriday\, August 16th \n1803 West 17th Street \n[Event on 17th Street between Wood and Wolcott Streets] \n6:00 pm
URL:https://faithtable.org/event/street-mass-and-block-party-16/
LOCATION:1800 block West 17th Street\, 1803 West 17th Street\, Chicago\, IL\, 60608\, United States
CATEGORIES:Block Club event,Summer Street Masses
ATTACH;FMTTYPE=image/jpeg:https://faithtable.org/wp-content/uploads/2023/06/photo-7-june-16-2023-hands-held-scaled.jpeg
END:VEVENT
BEGIN:VEVENT
DTSTART;TZID=America/Chicago:20240817T160000
DTEND;TZID=America/Chicago:20240817T190000
DTSTAMP:20260420T220803
CREATED:20240712T205931Z
LAST-MODIFIED:20240712T205931Z
UID:5584-1723910400-1723921200@faithtable.org
SUMMARY:INCREASE THE PEACE SUMMER SERIES
DESCRIPTION:
URL:https://faithtable.org/event/increase-the-peace-summer-series-3/
LOCATION:IL
CATEGORIES:Community Peace Events,Summer Street Masses,Unity Event
ATTACH;FMTTYPE=image/jpeg:https://faithtable.org/wp-content/uploads/2024/07/ITP-Summer-Series-08.17.2024.jpg
ORGANIZER;CN="Increase the Peace":MAILTO:increasethepeacechi@gmail.com
END:VEVENT
BEGIN:VEVENT
DTSTART;TZID=America/Chicago:20240823T150000
DTEND;TZID=America/Chicago:20240823T220000
DTSTAMP:20260420T220803
CREATED:20240612T162202Z
LAST-MODIFIED:20240816T161017Z
UID:5514-1724425200-1724450400@faithtable.org
SUMMARY:End of Summer Street Mass and Zocalo Block Party
DESCRIPTION:
URL:https://faithtable.org/event/end-of-summer-street-mass-and-zocalo-block-party/
LOCATION:Zocalo de Pilsen\, 1818 S Paulina\, Chicago\, IL\, 60608\, United States
CATEGORIES:Block Club event,Concert,Summer Street Masses,Unity Event
ATTACH;FMTTYPE=image/jpeg:https://faithtable.org/wp-content/uploads/2022/06/davidturnerphoto-5-scaled.jpg
END:VEVENT
END:VCALENDAR