BEGIN:VCALENDAR
VERSION:2.0
PRODID:-//Faith Table - ECPv6.15.20//NONSGML v1.0//EN
CALSCALE:GREGORIAN
METHOD:PUBLISH
X-WR-CALNAME:Faith Table
X-ORIGINAL-URL:https://faithtable.org
X-WR-CALDESC:Events for Faith Table
REFRESH-INTERVAL;VALUE=DURATION:PT1H
X-Robots-Tag:noindex
X-PUBLISHED-TTL:PT1H
BEGIN:VTIMEZONE
TZID:America/Chicago
BEGIN:DAYLIGHT
TZOFFSETFROM:-0600
TZOFFSETTO:-0500
TZNAME:CDT
DTSTART:20230312T080000
END:DAYLIGHT
BEGIN:STANDARD
TZOFFSETFROM:-0500
TZOFFSETTO:-0600
TZNAME:CST
DTSTART:20231105T070000
END:STANDARD
BEGIN:DAYLIGHT
TZOFFSETFROM:-0600
TZOFFSETTO:-0500
TZNAME:CDT
DTSTART:20240310T080000
END:DAYLIGHT
BEGIN:STANDARD
TZOFFSETFROM:-0500
TZOFFSETTO:-0600
TZNAME:CST
DTSTART:20241103T070000
END:STANDARD
BEGIN:DAYLIGHT
TZOFFSETFROM:-0600
TZOFFSETTO:-0500
TZNAME:CDT
DTSTART:20250309T080000
END:DAYLIGHT
BEGIN:STANDARD
TZOFFSETFROM:-0500
TZOFFSETTO:-0600
TZNAME:CST
DTSTART:20251102T070000
END:STANDARD
END:VTIMEZONE
BEGIN:VEVENT
DTSTART;TZID=America/Chicago:20240720T160000
DTEND;TZID=America/Chicago:20240720T190000
DTSTAMP:20260421T020516
CREATED:20240712T204344Z
LAST-MODIFIED:20240712T204512Z
UID:5571-1721491200-1721502000@faithtable.org
SUMMARY:INCREASE THE PEACE SUMMER SERIES CORNELL PARK
DESCRIPTION:
URL:https://faithtable.org/event/increase-the-peace-summer-series-cornell-park/
LOCATION:CORNELL SQUARE PARK\, 1809 WEST 50TH STREET\, CHICAGO\, United States
CATEGORIES:Community Peace Events,Summer Street Masses
ATTACH;FMTTYPE=image/jpeg:https://faithtable.org/wp-content/uploads/2024/07/ITP-Summer-Series-07.20.2024-ENG.png.jpg
ORGANIZER;CN="Increase the Peace":MAILTO:increasethepeacechi@gmail.com
END:VEVENT
BEGIN:VEVENT
DTSTART;TZID=America/Chicago:20240720T180000
DTEND;TZID=America/Chicago:20240720T210000
DTSTAMP:20260421T020516
CREATED:20240612T152859Z
LAST-MODIFIED:20240612T154711Z
UID:5500-1721498400-1721509200@faithtable.org
SUMMARY:Street Mass and Block Party
DESCRIPTION:Join us as families and neighbors gather for a Street Mass and block party celebration! \nSaturday\, July 20th \n1612 West Ohio Street \n[Event will be held on Ohio Street between Ashland and Paulina] \n6:00 pm
URL:https://faithtable.org/event/street-mass-and-block-party-12/
LOCATION:1612 West Ohio Street\, 1612 West Ohio Street\, Chicago\, 60622\, United States
CATEGORIES:Block Club event,Summer Street Masses
ATTACH;FMTTYPE=image/jpeg:https://faithtable.org/wp-content/uploads/2023/06/photo-7-june-16-2023-hands-held-scaled.jpeg
END:VEVENT
END:VCALENDAR