BEGIN:VCALENDAR
VERSION:2.0
PRODID:-//Faith Table - ECPv6.15.20//NONSGML v1.0//EN
CALSCALE:GREGORIAN
METHOD:PUBLISH
X-WR-CALNAME:Faith Table
X-ORIGINAL-URL:https://faithtable.org
X-WR-CALDESC:Events for Faith Table
REFRESH-INTERVAL;VALUE=DURATION:PT1H
X-Robots-Tag:noindex
X-PUBLISHED-TTL:PT1H
BEGIN:VTIMEZONE
TZID:America/Chicago
BEGIN:DAYLIGHT
TZOFFSETFROM:-0600
TZOFFSETTO:-0500
TZNAME:CDT
DTSTART:20230312T080000
END:DAYLIGHT
BEGIN:STANDARD
TZOFFSETFROM:-0500
TZOFFSETTO:-0600
TZNAME:CST
DTSTART:20231105T070000
END:STANDARD
BEGIN:DAYLIGHT
TZOFFSETFROM:-0600
TZOFFSETTO:-0500
TZNAME:CDT
DTSTART:20240310T080000
END:DAYLIGHT
BEGIN:STANDARD
TZOFFSETFROM:-0500
TZOFFSETTO:-0600
TZNAME:CST
DTSTART:20241103T070000
END:STANDARD
BEGIN:DAYLIGHT
TZOFFSETFROM:-0600
TZOFFSETTO:-0500
TZNAME:CDT
DTSTART:20250309T080000
END:DAYLIGHT
BEGIN:STANDARD
TZOFFSETFROM:-0500
TZOFFSETTO:-0600
TZNAME:CST
DTSTART:20251102T070000
END:STANDARD
END:VTIMEZONE
BEGIN:VEVENT
DTSTART;TZID=America/Chicago:20240726T160000
DTEND;TZID=America/Chicago:20240726T190000
DTSTAMP:20260421T012731
CREATED:20240712T205235Z
LAST-MODIFIED:20240712T205235Z
UID:5577-1722009600-1722020400@faithtable.org
SUMMARY:INCREASE THE PEACE SUMMER SERIES
DESCRIPTION:
URL:https://faithtable.org/event/increase-the-peace-summer-series/
LOCATION:1900 West 48th Street\, 1900 West 48th Street\, Chicago\, IL\, 60609\, United States
CATEGORIES:Community Peace Events,Summer Street Masses,Unity Event
ATTACH;FMTTYPE=image/jpeg:https://faithtable.org/wp-content/uploads/2024/07/ITP-Summer-Series-07.26.2024.jpg
ORGANIZER;CN="Increase the Peace":MAILTO:increasethepeacechi@gmail.com
END:VEVENT
BEGIN:VEVENT
DTSTART;TZID=America/Chicago:20240726T180000
DTEND;TZID=America/Chicago:20240726T210000
DTSTAMP:20260421T012731
CREATED:20240612T153838Z
LAST-MODIFIED:20240612T154439Z
UID:5503-1722016800-1722027600@faithtable.org
SUMMARY:Street Mass and Block Party
DESCRIPTION:Join us as families and neighbors gather for a Street Mass and block party celebration! \nFriday\, July 26th \n2238 West 21st Place \n[Event on 21st Place between Leavitt and Oakley Streets] \n6:00 pm
URL:https://faithtable.org/event/street-mass-and-block-party-13/
LOCATION:2200 block West 21st Place\, 2238 West 21st Place\, Chicago\, IL\, 60608\, United States
CATEGORIES:Block Club event,Summer Street Masses
ATTACH;FMTTYPE=image/jpeg:https://faithtable.org/wp-content/uploads/2023/06/photo-7-june-16-2023-hands-held-scaled.jpeg
END:VEVENT
BEGIN:VEVENT
DTSTART;TZID=America/Chicago:20240726T183000
DTEND;TZID=America/Chicago:20240726T200000
DTSTAMP:20260421T012731
CREATED:20240716T164633Z
LAST-MODIFIED:20240716T164633Z
UID:5597-1722018600-1722024000@faithtable.org
SUMMARY:Street Mass
DESCRIPTION:
URL:https://faithtable.org/event/street-mass-18/
LOCATION:2237 S Albany\, 2237 S Albany\, Chicago\, IL\, 60623\, United States
CATEGORIES:Summer Street Masses
ATTACH;FMTTYPE=image/jpeg:https://faithtable.org/wp-content/uploads/2024/07/mother-of-americas-street-mass-july-26-2024.jpg
END:VEVENT
END:VCALENDAR