BEGIN:VCALENDAR
VERSION:2.0
PRODID:-//Faith Table - ECPv6.15.20//NONSGML v1.0//EN
CALSCALE:GREGORIAN
METHOD:PUBLISH
X-ORIGINAL-URL:https://faithtable.org
X-WR-CALDESC:Events for Faith Table
REFRESH-INTERVAL;VALUE=DURATION:PT1H
X-Robots-Tag:noindex
X-PUBLISHED-TTL:PT1H
BEGIN:VTIMEZONE
TZID:America/Chicago
BEGIN:DAYLIGHT
TZOFFSETFROM:-0600
TZOFFSETTO:-0500
TZNAME:CDT
DTSTART:20220313T080000
END:DAYLIGHT
BEGIN:STANDARD
TZOFFSETFROM:-0500
TZOFFSETTO:-0600
TZNAME:CST
DTSTART:20221106T070000
END:STANDARD
BEGIN:DAYLIGHT
TZOFFSETFROM:-0600
TZOFFSETTO:-0500
TZNAME:CDT
DTSTART:20230312T080000
END:DAYLIGHT
BEGIN:STANDARD
TZOFFSETFROM:-0500
TZOFFSETTO:-0600
TZNAME:CST
DTSTART:20231105T070000
END:STANDARD
BEGIN:DAYLIGHT
TZOFFSETFROM:-0600
TZOFFSETTO:-0500
TZNAME:CDT
DTSTART:20240310T080000
END:DAYLIGHT
BEGIN:STANDARD
TZOFFSETFROM:-0500
TZOFFSETTO:-0600
TZNAME:CST
DTSTART:20241103T070000
END:STANDARD
END:VTIMEZONE
BEGIN:VEVENT
DTSTART;TZID=America/Chicago:20231001T093000
DTEND;TZID=America/Chicago:20231231T163000
DTSTAMP:20260425T104338
CREATED:20231101T190009Z
LAST-MODIFIED:20240116T183619Z
UID:5257-1696152600-1704040200@faithtable.org
SUMMARY:SUPPORT FOR NEW ARRIVALS AND OUR BROTHERS AND SISTERS
DESCRIPTION:SUITCASE SUNDAYS!!! \nSUPPORT FOR OUR HOMELESS FAMILIES IN WINTER \nDROP OFF DONATIONS AT ANY MEMBER FAITH COMMUNITY OR CHURCH \nOR AT THE RESURRECTION PROJECT \n1815 South Paulina \nplease drop off at the Reception Desk \ntell staff the donation is for “Fr Brendan” or simply “New Arrivals” and “Homeless Families” \nplease drop off between Monday and Friday and the hours of 9:30 am to 4:30 pm \ncontact: Fr Brendan bcurran@resurrectionproject.org
URL:https://faithtable.org/event/ongoing-support-for-new-arrivals-and-our-brothers-and-sisters/
LOCATION:The Resurrection Project\, 1805 South Paulina Street\, Chicago\, IL\, 60608\, United States
CATEGORIES:HOMELESS FAMILY SUPPORT,NEW ARRIVALS,support service event
ATTACH;FMTTYPE=image/jpeg:https://faithtable.org/wp-content/uploads/2023/11/IMG_20230711_084916.jpg
END:VEVENT
BEGIN:VEVENT
DTSTART;TZID=America/Chicago:20231228T170000
DTEND;TZID=America/Chicago:20231228T190000
DTSTAMP:20260425T104338
CREATED:20231215T223735Z
LAST-MODIFIED:20231215T223735Z
UID:5305-1703782800-1703790000@faithtable.org
SUMMARY:Appeal Property Taxes with Board of Review / Apelar Impuestos de Propiedad
DESCRIPTION:Deadline for property tax appeals is January 2nd! \nDon’t miss out on saving money! \nFree support service center! \nNO COST and NO RESERVATION NEEDED
URL:https://faithtable.org/event/appeal-property-taxes-with-board-of-review-apelar-impuestos-de-propiedad/
LOCATION:The Resurrection Project\, 1805 South Paulina Street\, Chicago\, IL\, 60608\, United States
CATEGORIES:affordable property owner event,property taxes,support service event
ATTACH;FMTTYPE=image/jpeg:https://faithtable.org/wp-content/uploads/2023/12/prop-tax-workshop-dec-28-2023-eng-1-e1702679733238.jpg
END:VEVENT
END:VCALENDAR