BEGIN:VCALENDAR
VERSION:2.0
PRODID:-//Faith Table - ECPv6.15.20//NONSGML v1.0//EN
CALSCALE:GREGORIAN
METHOD:PUBLISH
X-WR-CALNAME:Faith Table
X-ORIGINAL-URL:https://faithtable.org
X-WR-CALDESC:Events for Faith Table
REFRESH-INTERVAL;VALUE=DURATION:PT1H
X-Robots-Tag:noindex
X-PUBLISHED-TTL:PT1H
BEGIN:VTIMEZONE
TZID:America/Chicago
BEGIN:DAYLIGHT
TZOFFSETFROM:-0600
TZOFFSETTO:-0500
TZNAME:CDT
DTSTART:20230312T080000
END:DAYLIGHT
BEGIN:STANDARD
TZOFFSETFROM:-0500
TZOFFSETTO:-0600
TZNAME:CST
DTSTART:20231105T070000
END:STANDARD
BEGIN:DAYLIGHT
TZOFFSETFROM:-0600
TZOFFSETTO:-0500
TZNAME:CDT
DTSTART:20240310T080000
END:DAYLIGHT
BEGIN:STANDARD
TZOFFSETFROM:-0500
TZOFFSETTO:-0600
TZNAME:CST
DTSTART:20241103T070000
END:STANDARD
BEGIN:DAYLIGHT
TZOFFSETFROM:-0600
TZOFFSETTO:-0500
TZNAME:CDT
DTSTART:20250309T080000
END:DAYLIGHT
BEGIN:STANDARD
TZOFFSETFROM:-0500
TZOFFSETTO:-0600
TZNAME:CST
DTSTART:20251102T070000
END:STANDARD
END:VTIMEZONE
BEGIN:VEVENT
DTSTART;TZID=America/Chicago:20240214T070000
DTEND;TZID=America/Chicago:20240214T190000
DTSTAMP:20260421T091353
CREATED:20240202T194907Z
LAST-MODIFIED:20240215T211726Z
UID:5365-1707894000-1707937200@faithtable.org
SUMMARY:ASH WEDNESDAY/ VALENTINE'S DAY: TURN TO LOVE
DESCRIPTION:JOIN FAITH TABLE INTERFAITH COALITION PARTNERS FOR A PRAYER\, A BLESSING AT CTA TRAIN STATIONS ON CHICAGO’S WEST SIDE \nWHEN: 7;00 AM TO 9:00 AM and 5:00 PM TO 7:00 PM \nWHERE: CTA TRAIN STATION ENTRANCES AT THE FOLLOWING LOCATIONS \nPINK LINE: 18TH STREET\, DAMEN\, CALIFORNIA\, KEDZIE\, AND CENTRAL PARK \nORANGE LINE: 47TH AND WESTERN \nRED LINE: 63RD AND HALSTED \n  \nFOR MORE INFORMATION: BCURRAN@RESURRECTIONPROJECT.ORG \n 
URL:https://faithtable.org/event/valentines-day-ash-wednesday-turn-to-love/
LOCATION:CHICAGO\, CHICAGO\, IL\, United States
CATEGORIES:Community Peace Events,Unity Event
ATTACH;FMTTYPE=image/jpeg:https://faithtable.org/wp-content/uploads/2024/02/collage-turn-to-love-event-valentines-day.jpg
END:VEVENT
END:VCALENDAR