BEGIN:VCALENDAR
VERSION:2.0
PRODID:-//Faith Table - ECPv6.15.20//NONSGML v1.0//EN
CALSCALE:GREGORIAN
METHOD:PUBLISH
X-ORIGINAL-URL:https://faithtable.org
X-WR-CALDESC:Events for Faith Table
REFRESH-INTERVAL;VALUE=DURATION:PT1H
X-Robots-Tag:noindex
X-PUBLISHED-TTL:PT1H
BEGIN:VTIMEZONE
TZID:America/Chicago
BEGIN:DAYLIGHT
TZOFFSETFROM:-0600
TZOFFSETTO:-0500
TZNAME:CDT
DTSTART:20250309T080000
END:DAYLIGHT
BEGIN:STANDARD
TZOFFSETFROM:-0500
TZOFFSETTO:-0600
TZNAME:CST
DTSTART:20251102T070000
END:STANDARD
BEGIN:DAYLIGHT
TZOFFSETFROM:-0600
TZOFFSETTO:-0500
TZNAME:CDT
DTSTART:20260308T080000
END:DAYLIGHT
BEGIN:STANDARD
TZOFFSETFROM:-0500
TZOFFSETTO:-0600
TZNAME:CST
DTSTART:20261101T070000
END:STANDARD
BEGIN:DAYLIGHT
TZOFFSETFROM:-0600
TZOFFSETTO:-0500
TZNAME:CDT
DTSTART:20270314T080000
END:DAYLIGHT
BEGIN:STANDARD
TZOFFSETFROM:-0500
TZOFFSETTO:-0600
TZNAME:CST
DTSTART:20271107T070000
END:STANDARD
END:VTIMEZONE
BEGIN:VEVENT
DTSTART;TZID=America/Chicago:20260123T190000
DTEND;TZID=America/Chicago:20260123T210000
DTSTAMP:20260419T203540
CREATED:20260107T202357Z
LAST-MODIFIED:20260107T202357Z
UID:6085-1769194800-1769202000@faithtable.org
SUMMARY:SANCTUARY STORIES
DESCRIPTION:Through music\, videos\, photos and live actors\, Sanctuary Stories captures in words and images the lives and communities touched by the immigration crackdown in Chicago. This “living documentary” is a unique and unprecedented adventure in multimedia storytelling that brings journalism to life.
URL:https://faithtable.org/event/sanctuary-stories-4/
LOCATION:WINDY CITY PLAYHOUSE\, 3014 W. Irving Park Road\, CHICAGO\, IL\, 60618\, United States
CATEGORIES:immigrant rights,Unity Event
ATTACH;FMTTYPE=image/webp:https://faithtable.org/wp-content/uploads/2026/01/sanctuary-stories.webp
END:VEVENT
END:VCALENDAR